BEGIN:VCALENDAR
VERSION:2.0
PRODID:-//Feria del Libro de Zaragoza - ECPv6.15.20//NONSGML v1.0//EN
CALSCALE:GREGORIAN
METHOD:PUBLISH
X-ORIGINAL-URL:https://feriadellibrodezaragoza.com
X-WR-CALDESC:Eventos para Feria del Libro de Zaragoza
REFRESH-INTERVAL;VALUE=DURATION:PT1H
X-Robots-Tag:noindex
X-PUBLISHED-TTL:PT1H
BEGIN:VTIMEZONE
TZID:Europe/Madrid
BEGIN:DAYLIGHT
TZOFFSETFROM:+0100
TZOFFSETTO:+0200
TZNAME:CEST
DTSTART:20250330T010000
END:DAYLIGHT
BEGIN:STANDARD
TZOFFSETFROM:+0200
TZOFFSETTO:+0100
TZNAME:CET
DTSTART:20251026T010000
END:STANDARD
BEGIN:DAYLIGHT
TZOFFSETFROM:+0100
TZOFFSETTO:+0200
TZNAME:CEST
DTSTART:20260329T010000
END:DAYLIGHT
BEGIN:STANDARD
TZOFFSETFROM:+0200
TZOFFSETTO:+0100
TZNAME:CET
DTSTART:20261025T010000
END:STANDARD
BEGIN:DAYLIGHT
TZOFFSETFROM:+0100
TZOFFSETTO:+0200
TZNAME:CEST
DTSTART:20270328T010000
END:DAYLIGHT
BEGIN:STANDARD
TZOFFSETFROM:+0200
TZOFFSETTO:+0100
TZNAME:CET
DTSTART:20271031T010000
END:STANDARD
END:VTIMEZONE
BEGIN:VEVENT
DTSTART;TZID=Europe/Madrid:20260423T093000
DTEND;TZID=Europe/Madrid:20260423T143000
DTSTAMP:20260422T233726
CREATED:20260414T160918Z
LAST-MODIFIED:20260414T163423Z
UID:10006474-1776936600-1776954600@feriadellibrodezaragoza.com
SUMMARY:Fernando Martínez Baños: Canfranc
DESCRIPTION:Editorial Delsan: Fernando Martínez Baños: Canfranc
URL:https://feriadellibrodezaragoza.com/firma/fernando-martinez-banos-canfranc/
LOCATION:Día del Libro de Zaragoza\, Paseo Independencia\, Zaragoza\, Zaragoza\, 50001\, España
CATEGORIES:Firmas de libros
END:VEVENT
BEGIN:VEVENT
DTSTART;TZID=Europe/Madrid:20260423T093000
DTEND;TZID=Europe/Madrid:20260423T143000
DTSTAMP:20260422T233726
CREATED:20260414T160918Z
LAST-MODIFIED:20260414T163423Z
UID:10006475-1776936600-1776954600@feriadellibrodezaragoza.com
SUMMARY:Adela Rubio: Historia de la Corona de Aragón
DESCRIPTION:Editorial Delsan: Adela Rubio: Historia de la Corona de Aragón
URL:https://feriadellibrodezaragoza.com/firma/adela-rubio-historia-de-la-corona-de-aragon/
LOCATION:Día del Libro de Zaragoza\, Paseo Independencia\, Zaragoza\, Zaragoza\, 50001\, España
CATEGORIES:Firmas de libros
END:VEVENT
BEGIN:VEVENT
DTSTART;TZID=Europe/Madrid:20260423T093000
DTEND;TZID=Europe/Madrid:20260423T143000
DTSTAMP:20260422T233726
CREATED:20260414T160919Z
LAST-MODIFIED:20260414T163423Z
UID:10006478-1776936600-1776954600@feriadellibrodezaragoza.com
SUMMARY:Vera Galindo: Los gigantes
DESCRIPTION:Editorial Delsan: Vera Galindo: Los gigantes
URL:https://feriadellibrodezaragoza.com/firma/vera-galindo-los-gigantes/
LOCATION:Día del Libro de Zaragoza\, Paseo Independencia\, Zaragoza\, Zaragoza\, 50001\, España
CATEGORIES:Firmas de libros
END:VEVENT
BEGIN:VEVENT
DTSTART;TZID=Europe/Madrid:20260423T093000
DTEND;TZID=Europe/Madrid:20260423T143000
DTSTAMP:20260422T233726
CREATED:20260414T160919Z
LAST-MODIFIED:20260414T163423Z
UID:10006477-1776936600-1776954600@feriadellibrodezaragoza.com
SUMMARY:Ignacio Ochoa: El Morico
DESCRIPTION:Editorial Delsan: Ignacio Ochoa: El Morico
URL:https://feriadellibrodezaragoza.com/firma/ignacio-ochoa-el-morico/
LOCATION:Día del Libro de Zaragoza\, Paseo Independencia\, Zaragoza\, Zaragoza\, 50001\, España
CATEGORIES:Firmas de libros
END:VEVENT
BEGIN:VEVENT
DTSTART;TZID=Europe/Madrid:20260423T093000
DTEND;TZID=Europe/Madrid:20260423T143000
DTSTAMP:20260422T233726
CREATED:20260414T160919Z
LAST-MODIFIED:20260414T163423Z
UID:10006476-1776936600-1776954600@feriadellibrodezaragoza.com
SUMMARY:Michel Suñén: Los cabezudos
DESCRIPTION:Editorial Delsan: Michel Suñén: Los cabezudos
URL:https://feriadellibrodezaragoza.com/firma/michel-sunen-los-cabezudos/
LOCATION:Día del Libro de Zaragoza\, Paseo Independencia\, Zaragoza\, Zaragoza\, 50001\, España
CATEGORIES:Firmas de libros
END:VEVENT
BEGIN:VEVENT
DTSTART;TZID=Europe/Madrid:20260423T093000
DTEND;TZID=Europe/Madrid:20260423T143000
DTSTAMP:20260422T233726
CREATED:20260414T160928Z
LAST-MODIFIED:20260414T160930Z
UID:10006482-1776936600-1776954600@feriadellibrodezaragoza.com
SUMMARY:Belén Gonzalvo y Paloma Gómez: El enigma de las notas musicales
DESCRIPTION:Editorial Delsan: Belén Gonzalvo y Paloma Gómez: El enigma de las notas musicales
URL:https://feriadellibrodezaragoza.com/firma/belen-gonzalvo-y-paloma-gomez-el-enigma-de-las-notas-musicales/
LOCATION:Día del Libro de Zaragoza\, Paseo Independencia\, Zaragoza\, Zaragoza\, 50001\, España
CATEGORIES:Firmas de libros
END:VEVENT
BEGIN:VEVENT
DTSTART;TZID=Europe/Madrid:20260423T093000
DTEND;TZID=Europe/Madrid:20260423T143000
DTSTAMP:20260422T233726
CREATED:20260414T160928Z
LAST-MODIFIED:20260414T160930Z
UID:10006481-1776936600-1776954600@feriadellibrodezaragoza.com
SUMMARY:José Luis Delgado: Los Pirineos
DESCRIPTION:Editorial Delsan: José Luis Delgado: Los Pirineos
URL:https://feriadellibrodezaragoza.com/firma/jose-luis-delgado-los-pirineos/
LOCATION:Día del Libro de Zaragoza\, Paseo Independencia\, Zaragoza\, Zaragoza\, 50001\, España
CATEGORIES:Firmas de libros
END:VEVENT
BEGIN:VEVENT
DTSTART;TZID=Europe/Madrid:20260423T093000
DTEND;TZID=Europe/Madrid:20260423T143000
DTSTAMP:20260422T233727
CREATED:20260414T160928Z
LAST-MODIFIED:20260414T160929Z
UID:10006480-1776936600-1776954600@feriadellibrodezaragoza.com
SUMMARY:Sara Chueca: Cara y Coll Noche
DESCRIPTION:Editorial Delsan: Sara Chueca: Cara y Coll Noche
URL:https://feriadellibrodezaragoza.com/firma/sara-chueca-cara-y-coll-noche/
LOCATION:Día del Libro de Zaragoza\, Paseo Independencia\, Zaragoza\, Zaragoza\, 50001\, España
CATEGORIES:Firmas de libros
END:VEVENT
BEGIN:VEVENT
DTSTART;TZID=Europe/Madrid:20260423T093000
DTEND;TZID=Europe/Madrid:20260423T143000
DTSTAMP:20260422T233727
CREATED:20260414T160928Z
LAST-MODIFIED:20260414T160929Z
UID:10006479-1776936600-1776954600@feriadellibrodezaragoza.com
SUMMARY:Juan Domínguez Lasierra: Aragón legendario
DESCRIPTION:Editorial Delsan: Juan Domínguez Lasierra: Aragón legendario
URL:https://feriadellibrodezaragoza.com/firma/juan-dominguez-lasierra-aragon-legendario/
LOCATION:Día del Libro de Zaragoza\, Paseo Independencia\, Zaragoza\, Zaragoza\, 50001\, España
CATEGORIES:Firmas de libros
END:VEVENT
BEGIN:VEVENT
DTSTART;TZID=Europe/Madrid:20260423T170000
DTEND;TZID=Europe/Madrid:20260423T213000
DTSTAMP:20260422T233727
CREATED:20260414T162448Z
LAST-MODIFIED:20260414T163302Z
UID:10006799-1776963600-1776979800@feriadellibrodezaragoza.com
SUMMARY:Adela Rubio: Historia de la Corona de Aragón
DESCRIPTION:Editorial Delsan: Adela Rubio: Historia de la Corona de Aragón
URL:https://feriadellibrodezaragoza.com/firma/adela-rubio-historia-de-la-corona-de-aragon-2/
LOCATION:Día del Libro de Zaragoza\, Paseo Independencia\, Zaragoza\, Zaragoza\, 50001\, España
CATEGORIES:Firmas de libros
END:VEVENT
BEGIN:VEVENT
DTSTART;TZID=Europe/Madrid:20260423T170000
DTEND;TZID=Europe/Madrid:20260423T213000
DTSTAMP:20260422T233727
CREATED:20260414T162449Z
LAST-MODIFIED:20260414T163302Z
UID:10006800-1776963600-1776979800@feriadellibrodezaragoza.com
SUMMARY:Michel Suñén: Los cabezudos
DESCRIPTION:Editorial Delsan: Michel Suñén: Los cabezudos
URL:https://feriadellibrodezaragoza.com/firma/michel-sunen-los-cabezudos-2/
LOCATION:Día del Libro de Zaragoza\, Paseo Independencia\, Zaragoza\, Zaragoza\, 50001\, España
CATEGORIES:Firmas de libros
END:VEVENT
BEGIN:VEVENT
DTSTART;TZID=Europe/Madrid:20260423T170000
DTEND;TZID=Europe/Madrid:20260423T213000
DTSTAMP:20260422T233727
CREATED:20260414T162450Z
LAST-MODIFIED:20260414T163302Z
UID:10006801-1776963600-1776979800@feriadellibrodezaragoza.com
SUMMARY:Ignacio Ochoa: El Morico
DESCRIPTION:Editorial Delsan: Ignacio Ochoa: El Morico
URL:https://feriadellibrodezaragoza.com/firma/ignacio-ochoa-el-morico-2/
LOCATION:Día del Libro de Zaragoza\, Paseo Independencia\, Zaragoza\, Zaragoza\, 50001\, España
CATEGORIES:Firmas de libros
END:VEVENT
BEGIN:VEVENT
DTSTART;TZID=Europe/Madrid:20260423T170000
DTEND;TZID=Europe/Madrid:20260423T213000
DTSTAMP:20260422T233727
CREATED:20260414T162450Z
LAST-MODIFIED:20260414T163302Z
UID:10006804-1776963600-1776979800@feriadellibrodezaragoza.com
SUMMARY:Sara Chueca: Cara y Coll Noche
DESCRIPTION:Editorial Delsan: Sara Chueca: Cara y Coll Noche
URL:https://feriadellibrodezaragoza.com/firma/sara-chueca-cara-y-coll-noche-2/
LOCATION:Día del Libro de Zaragoza\, Paseo Independencia\, Zaragoza\, Zaragoza\, 50001\, España
CATEGORIES:Firmas de libros
END:VEVENT
BEGIN:VEVENT
DTSTART;TZID=Europe/Madrid:20260423T170000
DTEND;TZID=Europe/Madrid:20260423T213000
DTSTAMP:20260422T233727
CREATED:20260414T162450Z
LAST-MODIFIED:20260414T163302Z
UID:10006803-1776963600-1776979800@feriadellibrodezaragoza.com
SUMMARY:Juan Domínguez Lasierra: Aragón legendario
DESCRIPTION:Editorial Delsan: Juan Domínguez Lasierra: Aragón legendario
URL:https://feriadellibrodezaragoza.com/firma/juan-dominguez-lasierra-aragon-legendario-2/
LOCATION:Día del Libro de Zaragoza\, Paseo Independencia\, Zaragoza\, Zaragoza\, 50001\, España
CATEGORIES:Firmas de libros
END:VEVENT
BEGIN:VEVENT
DTSTART;TZID=Europe/Madrid:20260423T170000
DTEND;TZID=Europe/Madrid:20260423T213000
DTSTAMP:20260422T233727
CREATED:20260414T162450Z
LAST-MODIFIED:20260414T163302Z
UID:10006802-1776963600-1776979800@feriadellibrodezaragoza.com
SUMMARY:Vera Galindo: Los gigantes
DESCRIPTION:Editorial Delsan: Vera Galindo: Los gigantes
URL:https://feriadellibrodezaragoza.com/firma/vera-galindo-los-gigantes-2/
LOCATION:Día del Libro de Zaragoza\, Paseo Independencia\, Zaragoza\, Zaragoza\, 50001\, España
CATEGORIES:Firmas de libros
END:VEVENT
BEGIN:VEVENT
DTSTART;TZID=Europe/Madrid:20260423T170000
DTEND;TZID=Europe/Madrid:20260423T213000
DTSTAMP:20260422T233727
CREATED:20260414T162540Z
LAST-MODIFIED:20260414T163302Z
UID:10006807-1776963600-1776979800@feriadellibrodezaragoza.com
SUMMARY:Francisco Martínez Baños: Canfranc
DESCRIPTION:Editorial Delsan: Francisco Martínez Baños: Canfranc
URL:https://feriadellibrodezaragoza.com/firma/francisco-martinez-banos-canfranc/
LOCATION:Día del Libro de Zaragoza\, Paseo Independencia\, Zaragoza\, Zaragoza\, 50001\, España
CATEGORIES:Firmas de libros
END:VEVENT
BEGIN:VEVENT
DTSTART;TZID=Europe/Madrid:20260423T170000
DTEND;TZID=Europe/Madrid:20260423T213000
DTSTAMP:20260422T233727
CREATED:20260414T162540Z
LAST-MODIFIED:20260414T163301Z
UID:10006806-1776963600-1776979800@feriadellibrodezaragoza.com
SUMMARY:Belén Gonzalvo y Paloma Gómez: El enigma de las notas musicales
DESCRIPTION:Editorial Delsan: Belén Gonzalvo y Paloma Gómez: El enigma de las notas musicales
URL:https://feriadellibrodezaragoza.com/firma/belen-gonzalvo-y-paloma-gomez-el-enigma-de-las-notas-musicales-2/
LOCATION:Día del Libro de Zaragoza\, Paseo Independencia\, Zaragoza\, Zaragoza\, 50001\, España
CATEGORIES:Firmas de libros
END:VEVENT
BEGIN:VEVENT
DTSTART;TZID=Europe/Madrid:20260423T170000
DTEND;TZID=Europe/Madrid:20260423T213000
DTSTAMP:20260422T233727
CREATED:20260414T162540Z
LAST-MODIFIED:20260414T163301Z
UID:10006805-1776963600-1776979800@feriadellibrodezaragoza.com
SUMMARY:José Luis Delgado: Los Pirineos
DESCRIPTION:Editorial Delsan: José Luis Delgado: Los Pirineos
URL:https://feriadellibrodezaragoza.com/firma/jose-luis-delgado-los-pirineos-2/
LOCATION:Día del Libro de Zaragoza\, Paseo Independencia\, Zaragoza\, Zaragoza\, 50001\, España
CATEGORIES:Firmas de libros
END:VEVENT
END:VCALENDAR