BEGIN:VCALENDAR
VERSION:2.0
PRODID:-//Feria del Libro de Zaragoza - ECPv6.15.20//NONSGML v1.0//EN
CALSCALE:GREGORIAN
METHOD:PUBLISH
X-WR-CALNAME:Feria del Libro de Zaragoza
X-ORIGINAL-URL:https://feriadellibrodezaragoza.com
X-WR-CALDESC:Eventos para Feria del Libro de Zaragoza
REFRESH-INTERVAL;VALUE=DURATION:PT1H
X-Robots-Tag:noindex
X-PUBLISHED-TTL:PT1H
BEGIN:VTIMEZONE
TZID:Europe/Madrid
BEGIN:DAYLIGHT
TZOFFSETFROM:+0100
TZOFFSETTO:+0200
TZNAME:CEST
DTSTART:20250330T010000
END:DAYLIGHT
BEGIN:STANDARD
TZOFFSETFROM:+0200
TZOFFSETTO:+0100
TZNAME:CET
DTSTART:20251026T010000
END:STANDARD
BEGIN:DAYLIGHT
TZOFFSETFROM:+0100
TZOFFSETTO:+0200
TZNAME:CEST
DTSTART:20260329T010000
END:DAYLIGHT
BEGIN:STANDARD
TZOFFSETFROM:+0200
TZOFFSETTO:+0100
TZNAME:CET
DTSTART:20261025T010000
END:STANDARD
BEGIN:DAYLIGHT
TZOFFSETFROM:+0100
TZOFFSETTO:+0200
TZNAME:CEST
DTSTART:20270328T010000
END:DAYLIGHT
BEGIN:STANDARD
TZOFFSETFROM:+0200
TZOFFSETTO:+0100
TZNAME:CET
DTSTART:20271031T010000
END:STANDARD
END:VTIMEZONE
BEGIN:VEVENT
DTSTART;TZID=Europe/Madrid:20260423T093000
DTEND;TZID=Europe/Madrid:20260423T143000
DTSTAMP:20260422T233701
CREATED:20260414T160946Z
LAST-MODIFIED:20260414T163425Z
UID:10006492-1776936600-1776954600@feriadellibrodezaragoza.com
SUMMARY:Blanca BK: ¡Din! ¡Don!: El gato más largo del mundo
DESCRIPTION:Hola Monstruo: Blanca BK: ¡Din! ¡Don!: El gato más largo del mundo
URL:https://feriadellibrodezaragoza.com/firma/blanca-bk-din-don-el-gato-mas-largo-del-mundo/
LOCATION:Día del Libro de Zaragoza\, Paseo Independencia\, Zaragoza\, Zaragoza\, 50001\, España
CATEGORIES:Firmas de libros
END:VEVENT
BEGIN:VEVENT
DTSTART;TZID=Europe/Madrid:20260423T093000
DTEND;TZID=Europe/Madrid:20260423T143000
DTSTAMP:20260422T233701
CREATED:20260414T160946Z
LAST-MODIFIED:20260414T163425Z
UID:10006491-1776936600-1776954600@feriadellibrodezaragoza.com
SUMMARY:Alexandra Gómez: Luna y Piñón; La ardilla de las campanas
DESCRIPTION:Hola Monstruo: Alexandra Gómez: Luna y Piñón; La ardilla de las campanas
URL:https://feriadellibrodezaragoza.com/firma/alexandra-gomez-luna-y-pinon-la-ardilla-de-las-campanas/
LOCATION:Día del Libro de Zaragoza\, Paseo Independencia\, Zaragoza\, Zaragoza\, 50001\, España
CATEGORIES:Firmas de libros
END:VEVENT
BEGIN:VEVENT
DTSTART;TZID=Europe/Madrid:20260423T093000
DTEND;TZID=Europe/Madrid:20260423T143000
DTSTAMP:20260422T233701
CREATED:20260414T160946Z
LAST-MODIFIED:20260414T163425Z
UID:10006493-1776936600-1776954600@feriadellibrodezaragoza.com
SUMMARY:Tania Ávila: Un error morrocotudo; Avelina ¡Qué berrinche!
DESCRIPTION:Hola Monstruo: Tania Ávila: Un error morrocotudo; Avelina ¡Qué berrinche!
URL:https://feriadellibrodezaragoza.com/firma/tania-avila-un-error-morrocotudo-avelina-que-berrinche/
LOCATION:Día del Libro de Zaragoza\, Paseo Independencia\, Zaragoza\, Zaragoza\, 50001\, España
CATEGORIES:Firmas de libros
END:VEVENT
BEGIN:VEVENT
DTSTART;TZID=Europe/Madrid:20260423T093000
DTEND;TZID=Europe/Madrid:20260423T143000
DTSTAMP:20260422T233701
CREATED:20260414T160946Z
LAST-MODIFIED:20260414T163425Z
UID:10006490-1776936600-1776954600@feriadellibrodezaragoza.com
SUMMARY:Israel Gómez: Toda su obra
DESCRIPTION:Hola Monstruo: Israel Gómez: Toda su obra
URL:https://feriadellibrodezaragoza.com/firma/israel-gomez-toda-su-obra/
LOCATION:Día del Libro de Zaragoza\, Paseo Independencia\, Zaragoza\, Zaragoza\, 50001\, España
CATEGORIES:Firmas de libros
END:VEVENT
BEGIN:VEVENT
DTSTART;TZID=Europe/Madrid:20260423T093000
DTEND;TZID=Europe/Madrid:20260423T143000
DTSTAMP:20260422T233701
CREATED:20260414T160952Z
LAST-MODIFIED:20260414T163425Z
UID:10006495-1776936600-1776954600@feriadellibrodezaragoza.com
SUMMARY:Cristina Expósito: ¡Cuánta porquería!; Grillo el violinista
DESCRIPTION:Hola Monstruo: Cristina Expósito: ¡Cuánta porquería!; Grillo el violinista
URL:https://feriadellibrodezaragoza.com/firma/cristina-exposito-cuanta-porqueria-grillo-el-violinista/
LOCATION:Día del Libro de Zaragoza\, Paseo Independencia\, Zaragoza\, Zaragoza\, 50001\, España
CATEGORIES:Firmas de libros
END:VEVENT
BEGIN:VEVENT
DTSTART;TZID=Europe/Madrid:20260423T093000
DTEND;TZID=Europe/Madrid:20260423T143000
DTSTAMP:20260422T233701
CREATED:20260414T160952Z
LAST-MODIFIED:20260414T163425Z
UID:10006494-1776936600-1776954600@feriadellibrodezaragoza.com
SUMMARY:Patri de Blas: ¡Cuánta porquería! ¡Vaya lío Florentino!
DESCRIPTION:Hola Monstruo: Patri de Blas: ¡Cuánta porquería! ¡Vaya lío Florentino!
URL:https://feriadellibrodezaragoza.com/firma/patri-de-blas-cuanta-porqueria-vaya-lio-florentino/
LOCATION:Día del Libro de Zaragoza\, Paseo Independencia\, Zaragoza\, Zaragoza\, 50001\, España
CATEGORIES:Firmas de libros
END:VEVENT
BEGIN:VEVENT
DTSTART;TZID=Europe/Madrid:20260423T093000
DTEND;TZID=Europe/Madrid:20260423T143000
DTSTAMP:20260422T233701
CREATED:20260414T160953Z
LAST-MODIFIED:20260414T163425Z
UID:10006498-1776936600-1776954600@feriadellibrodezaragoza.com
SUMMARY:Nerea Vicente: Plasma el fantasma; Cazadores de monstruos
DESCRIPTION:Hola Monstruo: Nerea Vicente: Plasma el fantasma; Cazadores de monstruos
URL:https://feriadellibrodezaragoza.com/firma/nerea-vicente-plasma-el-fantasma-cazadores-de-monstruos/
LOCATION:Día del Libro de Zaragoza\, Paseo Independencia\, Zaragoza\, Zaragoza\, 50001\, España
CATEGORIES:Firmas de libros
END:VEVENT
BEGIN:VEVENT
DTSTART;TZID=Europe/Madrid:20260423T093000
DTEND;TZID=Europe/Madrid:20260423T143000
DTSTAMP:20260422T233701
CREATED:20260414T160953Z
LAST-MODIFIED:20260414T163425Z
UID:10006497-1776936600-1776954600@feriadellibrodezaragoza.com
SUMMARY:Victoria Meltzer: El niño No
DESCRIPTION:Hola Monstruo: Victoria Meltzer: El niño No
URL:https://feriadellibrodezaragoza.com/firma/victoria-meltzer-el-nino-no/
LOCATION:Día del Libro de Zaragoza\, Paseo Independencia\, Zaragoza\, Zaragoza\, 50001\, España
CATEGORIES:Firmas de libros
END:VEVENT
BEGIN:VEVENT
DTSTART;TZID=Europe/Madrid:20260423T093000
DTEND;TZID=Europe/Madrid:20260423T143000
DTSTAMP:20260422T233701
CREATED:20260414T160953Z
LAST-MODIFIED:20260414T163425Z
UID:10006496-1776936600-1776954600@feriadellibrodezaragoza.com
SUMMARY:Mariela Cisneros: Voraz\, un elefante caminaba
DESCRIPTION:Hola Monstruo: Mariela Cisneros: Voraz\, un elefante caminaba
URL:https://feriadellibrodezaragoza.com/firma/mariela-cisneros-voraz-un-elefante-caminaba/
LOCATION:Día del Libro de Zaragoza\, Paseo Independencia\, Zaragoza\, Zaragoza\, 50001\, España
CATEGORIES:Firmas de libros
END:VEVENT
BEGIN:VEVENT
DTSTART;TZID=Europe/Madrid:20260423T170000
DTEND;TZID=Europe/Madrid:20260423T213000
DTSTAMP:20260422T233701
CREATED:20260414T162648Z
LAST-MODIFIED:20260414T163301Z
UID:10006814-1776963600-1776979800@feriadellibrodezaragoza.com
SUMMARY:Israel Gómez: Toda su obra
DESCRIPTION:Hola Monstruo: Israel Gómez: Toda su obra
URL:https://feriadellibrodezaragoza.com/firma/israel-gomez-toda-su-obra-2/
LOCATION:Día del Libro de Zaragoza\, Paseo Independencia\, Zaragoza\, Zaragoza\, 50001\, España
CATEGORIES:Firmas de libros
END:VEVENT
BEGIN:VEVENT
DTSTART;TZID=Europe/Madrid:20260423T170000
DTEND;TZID=Europe/Madrid:20260423T213000
DTSTAMP:20260422T233701
CREATED:20260414T162649Z
LAST-MODIFIED:20260414T163301Z
UID:10006815-1776963600-1776979800@feriadellibrodezaragoza.com
SUMMARY:Alexandra Gómez: Luna y Piñón; La ardilla de las campanas
DESCRIPTION:Hola Monstruo: Alexandra Gómez: Luna y Piñón; La ardilla de las campanas
URL:https://feriadellibrodezaragoza.com/firma/alexandra-gomez-luna-y-pinon-la-ardilla-de-las-campanas-2/
LOCATION:Día del Libro de Zaragoza\, Paseo Independencia\, Zaragoza\, Zaragoza\, 50001\, España
CATEGORIES:Firmas de libros
END:VEVENT
BEGIN:VEVENT
DTSTART;TZID=Europe/Madrid:20260423T170000
DTEND;TZID=Europe/Madrid:20260423T213000
DTSTAMP:20260422T233701
CREATED:20260414T162649Z
LAST-MODIFIED:20260414T163301Z
UID:10006816-1776963600-1776979800@feriadellibrodezaragoza.com
SUMMARY:Tania Ávila: Un error morrocotudo; Avelina ¡Qué berrinche!
DESCRIPTION:Hola Monstruo: Tania Ávila: Un error morrocotudo; Avelina ¡Qué berrinche!
URL:https://feriadellibrodezaragoza.com/firma/tania-avila-un-error-morrocotudo-avelina-que-berrinche-2/
LOCATION:Día del Libro de Zaragoza\, Paseo Independencia\, Zaragoza\, Zaragoza\, 50001\, España
CATEGORIES:Firmas de libros
END:VEVENT
BEGIN:VEVENT
DTSTART;TZID=Europe/Madrid:20260423T170000
DTEND;TZID=Europe/Madrid:20260423T213000
DTSTAMP:20260422T233701
CREATED:20260414T162649Z
LAST-MODIFIED:20260414T163301Z
UID:10006817-1776963600-1776979800@feriadellibrodezaragoza.com
SUMMARY:Patri de Blas: ¡Cuánta porquería! ¡Vaya lío Florentino!
DESCRIPTION:Hola Monstruo: Patri de Blas: ¡Cuánta porquería! ¡Vaya lío Florentino!
URL:https://feriadellibrodezaragoza.com/firma/patri-de-blas-cuanta-porqueria-vaya-lio-florentino-2/
LOCATION:Día del Libro de Zaragoza\, Paseo Independencia\, Zaragoza\, Zaragoza\, 50001\, España
CATEGORIES:Firmas de libros
END:VEVENT
BEGIN:VEVENT
DTSTART;TZID=Europe/Madrid:20260423T170000
DTEND;TZID=Europe/Madrid:20260423T213000
DTSTAMP:20260422T233701
CREATED:20260414T162649Z
LAST-MODIFIED:20260414T163301Z
UID:10006818-1776963600-1776979800@feriadellibrodezaragoza.com
SUMMARY:Cristina Expósito: ¡Cuánta porquería!; Grillo el violinista
DESCRIPTION:Hola Monstruo: Cristina Expósito: ¡Cuánta porquería!; Grillo el violinista
URL:https://feriadellibrodezaragoza.com/firma/cristina-exposito-cuanta-porqueria-grillo-el-violinista-2/
LOCATION:Día del Libro de Zaragoza\, Paseo Independencia\, Zaragoza\, Zaragoza\, 50001\, España
CATEGORIES:Firmas de libros
END:VEVENT
BEGIN:VEVENT
DTSTART;TZID=Europe/Madrid:20260423T170000
DTEND;TZID=Europe/Madrid:20260423T213000
DTSTAMP:20260422T233701
CREATED:20260414T162650Z
LAST-MODIFIED:20260414T163301Z
UID:10006823-1776963600-1776979800@feriadellibrodezaragoza.com
SUMMARY:Victoria Meltzer: El niño No
DESCRIPTION:Hola Monstruo: Victoria Meltzer: El niño No
URL:https://feriadellibrodezaragoza.com/firma/victoria-meltzer-el-nino-no-2/
LOCATION:Día del Libro de Zaragoza\, Paseo Independencia\, Zaragoza\, Zaragoza\, 50001\, España
CATEGORIES:Firmas de libros
END:VEVENT
BEGIN:VEVENT
DTSTART;TZID=Europe/Madrid:20260423T170000
DTEND;TZID=Europe/Madrid:20260423T213000
DTSTAMP:20260422T233701
CREATED:20260414T162650Z
LAST-MODIFIED:20260414T163300Z
UID:10006822-1776963600-1776979800@feriadellibrodezaragoza.com
SUMMARY:Nuria García (Cuchufleta): Cazadores de monstruos
DESCRIPTION:Hola Monstruo: Nuria García (Cuchufleta): Cazadores de monstruos
URL:https://feriadellibrodezaragoza.com/firma/nuria-garcia-cuchufleta-cazadores-de-monstruos/
LOCATION:Día del Libro de Zaragoza\, Paseo Independencia\, Zaragoza\, Zaragoza\, 50001\, España
CATEGORIES:Firmas de libros
END:VEVENT
BEGIN:VEVENT
DTSTART;TZID=Europe/Madrid:20260423T170000
DTEND;TZID=Europe/Madrid:20260423T213000
DTSTAMP:20260422T233701
CREATED:20260414T162650Z
LAST-MODIFIED:20260414T163300Z
UID:10006821-1776963600-1776979800@feriadellibrodezaragoza.com
SUMMARY:Daniel Tejero: Cazadores de monstruos; La bruja Anacleta
DESCRIPTION:Hola Monstruo: Daniel Tejero: Cazadores de monstruos; La bruja Anacleta
URL:https://feriadellibrodezaragoza.com/firma/daniel-tejero-cazadores-de-monstruos-la-bruja-anacleta/
LOCATION:Día del Libro de Zaragoza\, Paseo Independencia\, Zaragoza\, Zaragoza\, 50001\, España
CATEGORIES:Firmas de libros
END:VEVENT
BEGIN:VEVENT
DTSTART;TZID=Europe/Madrid:20260423T170000
DTEND;TZID=Europe/Madrid:20260423T213000
DTSTAMP:20260422T233701
CREATED:20260414T162650Z
LAST-MODIFIED:20260414T163300Z
UID:10006820-1776963600-1776979800@feriadellibrodezaragoza.com
SUMMARY:Roberto Malo: El niño No; La bruja Anacleta
DESCRIPTION:Hola Monstruo: Roberto Malo: El niño No; La bruja Anacleta
URL:https://feriadellibrodezaragoza.com/firma/roberto-malo-el-nino-no-la-bruja-anacleta/
LOCATION:Día del Libro de Zaragoza\, Paseo Independencia\, Zaragoza\, Zaragoza\, 50001\, España
CATEGORIES:Firmas de libros
END:VEVENT
BEGIN:VEVENT
DTSTART;TZID=Europe/Madrid:20260423T170000
DTEND;TZID=Europe/Madrid:20260423T213000
DTSTAMP:20260422T233701
CREATED:20260414T162650Z
LAST-MODIFIED:20260414T163300Z
UID:10006819-1776963600-1776979800@feriadellibrodezaragoza.com
SUMMARY:Mariela Cisneros: Voraz\, un elefante caminaba
DESCRIPTION:Hola Monstruo: Mariela Cisneros: Voraz\, un elefante caminaba
URL:https://feriadellibrodezaragoza.com/firma/mariela-cisneros-voraz-un-elefante-caminaba-2/
LOCATION:Día del Libro de Zaragoza\, Paseo Independencia\, Zaragoza\, Zaragoza\, 50001\, España
CATEGORIES:Firmas de libros
END:VEVENT
BEGIN:VEVENT
DTSTART;TZID=Europe/Madrid:20260423T170000
DTEND;TZID=Europe/Madrid:20260423T213000
DTSTAMP:20260422T233701
CREATED:20260414T162741Z
LAST-MODIFIED:20260414T163300Z
UID:10006824-1776963600-1776979800@feriadellibrodezaragoza.com
SUMMARY:Nerea Vicente: Plasma el fantasma; Cazadores de monstruos
DESCRIPTION:Hola Monstruo: Nerea Vicente: Plasma el fantasma; Cazadores de monstruos
URL:https://feriadellibrodezaragoza.com/firma/nerea-vicente-plasma-el-fantasma-cazadores-de-monstruos-2/
LOCATION:Día del Libro de Zaragoza\, Paseo Independencia\, Zaragoza\, Zaragoza\, 50001\, España
CATEGORIES:Firmas de libros
END:VEVENT
END:VCALENDAR