BEGIN:VCALENDAR
VERSION:2.0
PRODID:-//Feria del Libro de Zaragoza - ECPv6.15.20//NONSGML v1.0//EN
CALSCALE:GREGORIAN
METHOD:PUBLISH
X-ORIGINAL-URL:https://feriadellibrodezaragoza.com
X-WR-CALDESC:Eventos para Feria del Libro de Zaragoza
REFRESH-INTERVAL;VALUE=DURATION:PT1H
X-Robots-Tag:noindex
X-PUBLISHED-TTL:PT1H
BEGIN:VTIMEZONE
TZID:Europe/Madrid
BEGIN:DAYLIGHT
TZOFFSETFROM:+0100
TZOFFSETTO:+0200
TZNAME:CEST
DTSTART:20250330T010000
END:DAYLIGHT
BEGIN:STANDARD
TZOFFSETFROM:+0200
TZOFFSETTO:+0100
TZNAME:CET
DTSTART:20251026T010000
END:STANDARD
BEGIN:DAYLIGHT
TZOFFSETFROM:+0100
TZOFFSETTO:+0200
TZNAME:CEST
DTSTART:20260329T010000
END:DAYLIGHT
BEGIN:STANDARD
TZOFFSETFROM:+0200
TZOFFSETTO:+0100
TZNAME:CET
DTSTART:20261025T010000
END:STANDARD
BEGIN:DAYLIGHT
TZOFFSETFROM:+0100
TZOFFSETTO:+0200
TZNAME:CEST
DTSTART:20270328T010000
END:DAYLIGHT
BEGIN:STANDARD
TZOFFSETFROM:+0200
TZOFFSETTO:+0100
TZNAME:CET
DTSTART:20271031T010000
END:STANDARD
END:VTIMEZONE
BEGIN:VEVENT
DTSTART;TZID=Europe/Madrid:20260423T093000
DTEND;TZID=Europe/Madrid:20260423T143000
DTSTAMP:20260421T154903
CREATED:20260418T084032Z
LAST-MODIFIED:20260418T084032Z
UID:10006877-1776936600-1776954600@feriadellibrodezaragoza.com
SUMMARY:Francisco Romero Malucán: Las guerras celtibéricas
DESCRIPTION:Librería San Pablo: Francisco Romero Malucán: Las guerras celtibéricas
URL:https://feriadellibrodezaragoza.com/firma/francisco-romero-malucan-las-guerras-celtibericas/
LOCATION:Día del Libro de Zaragoza\, Paseo Independencia\, Zaragoza\, Zaragoza\, 50001\, España
END:VEVENT
BEGIN:VEVENT
DTSTART;TZID=Europe/Madrid:20260423T093000
DTEND;TZID=Europe/Madrid:20260423T143000
DTSTAMP:20260421T154903
CREATED:20260418T084242Z
LAST-MODIFIED:20260418T084242Z
UID:10006878-1776936600-1776954600@feriadellibrodezaragoza.com
SUMMARY:Alejandro Alcazo: Historia de un idiota financiero
DESCRIPTION:Alejandro Alcazo: Historia de un idiota financiero
URL:https://feriadellibrodezaragoza.com/firma/alejandro-alcazo-historia-de-un-idiota-financiero/
LOCATION:Día del Libro de Zaragoza\, Paseo Independencia\, Zaragoza\, Zaragoza\, 50001\, España
END:VEVENT
END:VCALENDAR